Workbook

Sheet Брой кор. и тонаж по год.
B2: Година | C2: Брой кораби | D2: тонаж | E2: десетки хиляди тона
B3: 1941 | C3: =SUMIF('насипни товари'!$I$3:$I$190,"="&'Брой кор. и тонаж по год.'!$B3,'насипни товари'!$H$3:$H$190) -> 1 | D3: =SUMIF('насипни товари'!$I$3:$I$190,"="&'Брой кор. и тонаж по год.'!$B3,'насипни товари'!$D$3:$D$190) -> 208 | E3: =D3/10000 -> 0.0208
B4: 1942 | C4: =SUMIF('насипни товари'!$I$3:$I$190,"="&'Брой кор. и тонаж по год.'!$B4,'насипни товари'!$H$3:$H$190) -> 2 | D4: =SUMIF('насипни товари'!$I$3:$I$190,"="&'Брой кор. и тонаж по год.'!$B4,'насипни товари'!$D$3:$D$190) -> 200 | E4: =D4/10000 -> 0.02
B5: 1943 | C5: =SUMIF('насипни товари'!$I$3:$I$190,"="&'Брой кор. и тонаж по год.'!$B5,'насипни товари'!$H$3:$H$190) -> 1 | D5: =SUMIF('насипни товари'!$I$3:$I$190,"="&'Брой кор. и тонаж по год.'!$B5,'насипни товари'!$D$3:$D$190) -> 253 | E5: =D5/10000 -> 0.0253
B6: 1944 | C6: =SUMIF('насипни товари'!$I$3:$I$190,"="&'Брой кор. и тонаж по год.'!$B6,'насипни товари'!$H$3:$H$190) -> 0 | D6: =SUMIF('насипни товари'!$I$3:$I$190,"="&'Брой кор. и тонаж по год.'!$B6,'насипни товари'!$D$3:$D$190) -> 0 | E6: =D6/10000 -> 0
B7: 1945 | C7: =SUMIF('насипни товари'!$I$3:$I$190,"="&'Брой кор. и тонаж по год.'!$B7,'насипни товари'!$H$3:$H$190) -> 1 | D7: =SUMIF('насипни товари'!$I$3:$I$190,"="&'Брой кор. и тонаж по год.'!$B7,'насипни товари'!$D$3:$D$190) -> 386 | E7: =D7/10000 -> 0.0386
B8: 1946 | C8: =SUMIF('насипни товари'!$I$3:$I$190,"="&'Брой кор. и тонаж по год.'!$B8,'насипни товари'!$H$3:$H$190) -> 0 | D8: =SUMIF('насипни товари'!$I$3:$I$190,"="&'Брой кор. и тонаж по год.'!$B8,'насипни товари'!$D$3:$D$190) -> 0 | E8: =D8/10000 -> 0
B9: 1947 | C9: =SUMIF('насипни товари'!$I$3:$I$190,"="&'Брой кор. и тонаж по год.'!$B9,'насипни товари'!$H$3:$H$190) -> 1 | D9: =SUMIF('насипни товари'!$I$3:$I$190,"="&'Брой кор. и тонаж по год.'!$B9,'насипни товари'!$D$3:$D$190) -> 1060 | E9: =D9/10000 -> 0.106
B10: 1948 | C10: =SUMIF('насипни товари'!$I$3:$I$190,"="&'Брой кор. и тонаж по год.'!$B10,'насипни товари'!$H$3:$H$190) -> 3 | D10: =SUMIF('насипни товари'!$I$3:$I$190,"="&'Брой кор. и тонаж по год.'!$B10,'насипни товари'!$D$3:$D$190) -> 1260 | E10: =D10/10000 -> 0.126
B11: 1949 | C11: =SUMIF('насипни товари'!$I$3:$I$190,"="&'Брой кор. и тонаж по год.'!$B11,'насипни товари'!$H$3:$H$190) -> 3 | D11: =SUMIF('насипни товари'!$I$3:$I$190,"="&'Брой кор. и тонаж по год.'!$B11,'насипни товари'!$D$3:$D$190) -> 1060 | E11: =D11/10000 -> 0.106
B12: 1950 | C12: =SUMIF('насипни товари'!$I$3:$I$190,"="&'Брой кор. и тонаж по год.'!$B12,'насипни товари'!$H$3:$H$190) -> 14 | D12: =SUMIF('насипни товари'!$I$3:$I$190,"="&'Брой кор. и тонаж по год.'!$B12,'насипни товари'!$D$3:$D$190) -> 4560 | E12: =D12/10000 -> 0.456
B13: 1951 | C13: =SUMIF('насипни товари'!$I$3:$I$190,"="&'Брой кор. и тонаж по год.'!$B13,'насипни товари'!$H$3:$H$190) -> 9 | D13: =SUMIF('насипни товари'!$I$3:$I$190,"="&'Брой кор. и тонаж по год.'!$B13,'насипни товари'!$D$3:$D$190) -> 2424 | E13: =D13/10000 -> 0.2424
B14: 1952 | C14: =SUMIF('насипни товари'!$I$3:$I$190,"="&'Брой кор. и тонаж по год.'!$B14,'насипни товари'!$H$3:$H$190) -> 20 | D14: =SUMIF('насипни товари'!$I$3:$I$190,"="&'Брой кор. и тонаж по год.'!$B14,'насипни товари'!$D$3:$D$190) -> 4857 | E14: =D14/10000 -> 0.4857
... B74: 2012 | C74: =SUMIF('насипни товари'!$I$3:$I$190,"="&'Брой кор. и тонаж по год.'!$B74,'насипни товари'!$H$3:$H$190) -> 1 | D74: =SUMIF('насипни товари'!$I$3:$I$190,"="&'Брой кор. и тонаж по год.'!$B74,'насипни товари'!$D$3:$D$190) -> 55700 | E74: =D74/10000 -> 5.57

Sheet насипни товари
A1: Построени кораби за насипни товари
A2: No | B2: Проект No | C2: Строит. № | D2: Дедвейт | E2: Име | F2: Тип | G2: Страна | H2: Брой | I2: Година
A3: 11 | D3: 208 | E3: "Рила" | F3: насипни товари | G3: България | H3: 1 | I3: 1941
A4: 20 | D4: 200 | E4: Спомагателен кораб | F4: насипни товари | G4: България | H4: 2 | I4: 1942
A5: 21 | D5: 253 | E5: "Пирин" | F5: насипни товари | G5: България | H5: 1 | I5: 1943
A6: 28 | D6: 386 | E6: "Добруджа" | F6: насипни товари | G6: България | H6: 1 | I6: 1945
A7: 39 | D7: 1060 | E7: Дунавска баржа | F7: насипни товари | G7: България | H7: 1 | I7: 1947
A8: 43 | D8: 200 | E8: Товарна баржа | F8: насипни товари | G8: България | H8: 2 | I8: 1948
A9: 44 | D9: 1060 | E9: Дунавска баржа | F9: насипни товари | G9: България | H9: 1 | I9: 1948
A10: 48 | D10: 1060 | E10: Дунавска баржа | F10: насипни товари | G10: България | H10: 3 | I10: 1949
A11: 51 | D11: 3000 | E11: Желязо-бетонен танкер „Емба" | F11: насипни товари | G11: Русия | H11: 1 | I11: 1950
A12: 52 | D12: 1060 | E12: Дунавска баржа | F12: насипни товари | G12: България | H12: 5 | I12: 1950
A13: 53 | D13: 500 | E13: Желязо-бетонна баржа | F13: насипни товари | G13: Русия | H13: 8 | I13: 1950
A14: 58 | D14: 682 | E14: "Благой Касабов" | F14: насипни товари | G14: България | H14: 1 | I14: 1951
... A19: 64 | D19: 500 | E19: Желязо-бетоненна баржа | F19: насипни товари | G19: Русия | H19: 12 | I19: 1952
A20: 65 | B20: 415 | D20: 297 | E20: Баржа за масло | F20: насипни товари | G20: Русия | H20: 6 | I20: 1952
A21: 67 | D21: 3000 | E21: Желязо-бетонен танкер "Терек" | F21: насипни товари | G21: Русия | H21: 1 | I21: 1953
A22: 68 | B22: 415 | D22: 297 | E22: Баржа за масло | F22: насипни товари | G22: Русия | H22: 10 | I22: 1953
A23: 69 | B23: 503 | D23: 262 | E23: Баржа за масло | F23: насипни товари | G23: България | H23: 1 | I23: 1953
A24: 70 | B24: 638 | D24: 158 | E24: Бокситна баржа | F24: насипни товари | G24: Русия | H24: 2 | I24: 1953
A25: 74 | B25: 415-C | D25: 339 | E25: Баржа за масло | F25: насипни товари | G25: Русия | H25: 7 | I25: 1954
A26: 75 | B26: 638 | D26: 1158 | E26: Бокситна баржа | F26: насипни товари | G26: Русия | H26: 8 | I26: 1954
A27: 77 | B27: 503 | D27: 262 | E27: Баржа за масло | F27: насипни товари | G27: България | H27: 2 | I27: 1954
A28: 82 | B28: 415-C | D28: 339 | E28: Баржа за масло | F28: насипни товари | G28: Русия | H28: 11 | I28: 1955
A29: 83 | B29: 638 | D29: 1158 | E29: Бокситна баржа | F29: насипни товари | G29: Русия | H29: 11 | I29: 1955
A30: 85 | B30: 503-С | D30: 262 | E30: баржа за маслао | F30: насипни товари | G30: България | H30: 2 | I30: 1955
A31: 91 | B31: 525 | D31: 992.5 | E31: Дунавска баржа за чистене | F31: насипни товари | G31: България | H31: 2 | I31: 1955
A32: 94 | B32: 638 | D32: 1158 | E32: Бокситна баржа | F32: насипни товари | G32: Русия | H32: 17 | I32: 1956
A33: 95 | B33: 415-C | D33: 339 | E33: баржа за маслао | F33: насипни товари | G33: Русия | H33: 11 | I33: 1956
A34: 97 | B34: 527 | C34: 375 | D34: 225 | E34: "Шабла" | F34: насипни товари | G34: България | H34: 1 | I34: 1957
A35: 98 | B35: 527 | C35: 376 | D35: 225 | E35: "Бяла" | F35: насипни товари | G35: България | H35: 1 | I35: 1957
A36: 100 | B36: 638 | D36: 1158 | E36: Бокситна баржа | F36: насипни товари | G36: Русия | H36: 13 | I36: 1957
A37: 101 | B37: 415-C | D37: 339 | E37: баржа за маслао | F37: насипни товари | G37: Русия | H37: 5 | I37: 1957
A38: 104 | B38: 527 | C38: 391 | D38: 225 | E38: "Обзор" | F38: насипни товари | G38: България | H38: 1 | I38: 1958
A39: 105 | B39: 527 | C39: 471 | D39: 225 | E39: "Созопол" | F39: насипни товари | G39: България | H39: 1 | I39: 1958
A40: 106 | B40: 527 | C40: 472 | D40: 225 | E40: “Галата" | F40: насипни товари | G40: България | H40: 1 | I40: 1958
A41: 107 | B41: 529 | C41: 379 | D41: 3150 | E41: "Варна" | F41: насипни товари | G41: България | H41: 1 | I41: 1958
A42: 108 | B42: 529 | C42: 392 | D42: 3150 | E42: "Бургас" | F42: насипни товари | G42: България | H42: 1 | I42: 1958
A43: 109 | B43: 831 | D43: 1152 | E43: Речна баржа | F43: насипни товари | G43: Русия | H43: 12 | I43: 1958
A44: 110 | B44: 461-A | D44: 2760 | E44: Езерна баржа | F44: насипни товари | G44: Русия | H44: 4 | I44: 1958
...
