Workbook

Sheet Брой кор. и тонаж по год.
B2: Година | C2: Брой кораби | D2: тонаж | E2: десетки хиляди тона
B3: 1941 | C3: =SUMIF('насипни товари'!$I$3:$I$190,"="&'Брой кор. и тонаж по год.'!$B3,'насипни товари'!$H$3:$H$190) -> 1 | D3: =SUMIF('насипни товари'!$I$3:$I$190,"="&'Брой кор. и тонаж по год.'!$B3,'насипни товари'!$D$3:$D$190) -> 208 | E3: =D3/10000 -> 0.0208
B4: 1942 | C4: =SUMIF('насипни товари'!$I$3:$I$190,"="&'Брой кор. и тонаж по год.'!$B4,'насипни товари'!$H$3:$H$190) -> 2 | D4: =SUMIF('насипни товари'!$I$3:$I$190,"="&'Брой кор. и тонаж по год.'!$B4,'насипни товари'!$D$3:$D$190) -> 200 | E4: =D4/10000 -> 0.02
B5: 1943 | C5: =SUMIF('насипни товари'!$I$3:$I$190,"="&'Брой кор. и тонаж по год.'!$B5,'насипни товари'!$H$3:$H$190) -> 1 | D5: =SUMIF('насипни товари'!$I$3:$I$190,"="&'Брой кор. и тонаж по год.'!$B5,'насипни товари'!$D$3:$D$190) -> 253 | E5: =D5/10000 -> 0.0253
B6: 1944 | C6: =SUMIF('насипни товари'!$I$3:$I$190,"="&'Брой кор. и тонаж по год.'!$B6,'насипни товари'!$H$3:$H$190) -> 0 | D6: =SUMIF('насипни товари'!$I$3:$I$190,"="&'Брой кор. и тонаж по год.'!$B6,'насипни товари'!$D$3:$D$190) -> 0 | E6: =D6/10000 -> 0
B7: 1945 | C7: =SUMIF('насипни товари'!$I$3:$I$190,"="&'Брой кор. и тонаж по год.'!$B7,'насипни товари'!$H$3:$H$190) -> 1 | D7: =SUMIF('насипни товари'!$I$3:$I$190,"="&'Брой кор. и тонаж по год.'!$B7,'насипни товари'!$D$3:$D$190) -> 386 | E7: =D7/10000 -> 0.0386
B8: 1946 | C8: =SUMIF('насипни товари'!$I$3:$I$190,"="&'Брой кор. и тонаж по год.'!$B8,'насипни товари'!$H$3:$H$190) -> 0 | D8: =SUMIF('насипни товари'!$I$3:$I$190,"="&'Брой кор. и тонаж по год.'!$B8,'насипни товари'!$D$3:$D$190) -> 0 | E8: =D8/10000 -> 0
B9: 1947 | C9: =SUMIF('насипни товари'!$I$3:$I$190,"="&'Брой кор. и тонаж по год.'!$B9,'насипни товари'!$H$3:$H$190) -> 1 | D9: =SUMIF('насипни товари'!$I$3:$I$190,"="&'Брой кор. и тонаж по год.'!$B9,'насипни товари'!$D$3:$D$190) -> 1060 | E9: =D9/10000 -> 0.106
B10: 1948 | C10: =SUMIF('насипни товари'!$I$3:$I$190,"="&'Брой кор. и тонаж по год.'!$B10,'насипни товари'!$H$3:$H$190) -> 3 | D10: =SUMIF('насипни товари'!$I$3:$I$190,"="&'Брой кор. и тонаж по год.'!$B10,'насипни товари'!$D$3:$D$190) -> 1260 | E10: =D10/10000 -> 0.126
B11: 1949 | C11: =SUMIF('насипни товари'!$I$3:$I$190,"="&'Брой кор. и тонаж по год.'!$B11,'насипни товари'!$H$3:$H$190) -> 3 | D11: =SUMIF('насипни товари'!$I$3:$I$190,"="&'Брой кор. и тонаж по год.'!$B11,'насипни товари'!$D$3:$D$190) -> 1060 | E11: =D11/10000 -> 0.106
B12: 1950 | C12: =SUMIF('насипни товари'!$I$3:$I$190,"="&'Брой кор. и тонаж по год.'!$B12,'насипни товари'!$H$3:$H$190) -> 14 | D12: =SUMIF('насипни товари'!$I$3:$I$190,"="&'Брой кор. и тонаж по год.'!$B12,'насипни товари'!$D$3:$D$190) -> 4560 | E12: =D12/10000 -> 0.456
B13: 1951 | C13: =SUMIF('насипни товари'!$I$3:$I$190,"="&'Брой кор. и тонаж по год.'!$B13,'насипни товари'!$H$3:$H$190) -> 9 | D13: =SUMIF('насипни товари'!$I$3:$I$190,"="&'Брой кор. и тонаж по год.'!$B13,'насипни товари'!$D$3:$D$190) -> 2424 | E13: =D13/10000 -> 0.2424
B14: 1952 | C14: =SUMIF('насипни товари'!$I$3:$I$190,"="&'Брой кор. и тонаж по год.'!$B14,'насипни товари'!$H$3:$H$190) -> 20 | D14: =SUMIF('насипни товари'!$I$3:$I$190,"="&'Брой кор. и тонаж по год.'!$B14,'насипни товари'!$D$3:$D$190) -> 4857 | E14: =D14/10000 -> 0.4857
... B74: 2012 | C74: =SUMIF('насипни товари'!$I$3:$I$190,"="&'Брой кор. и тонаж по год.'!$B74,'насипни товари'!$H$3:$H$190) -> 1 | D74: =SUMIF('насипни товари'!$I$3:$I$190,"="&'Брой кор. и тонаж по год.'!$B74,'насипни товари'!$D$3:$D$190) -> 55700 | E74: =D74/10000 -> 5.57

Sheet насипни товари
A1: Построени кораби за насипни товари
A2: No | B2: Проект No | C2: Строит. № | D2: Дедвейт | E2: Име | F2: Тип | G2: Страна | H2: Брой | I2: Година
A3: 11 | D3: 208 | E3: "Рила" | F3: насипни товари | G3: България | H3: 1 | I3: 1941
A4: 20 | D4: 200 | E4: Спомагателен кораб | F4: насипни товари | G4: България | H4: 2 | I4: 1942
A5: 21 | D5: 253 | E5: "Пирин" | F5: насипни товари | G5: България | H5: 1 | I5: 1943
A6: 28 | D6: 386 | E6: "Добруджа" | F6: насипни товари | G6: България | H6: 1 | I6: 1945
A7: 39 | D7: 1060 | E7: Дунавска баржа | F7: насипни товари | G7: България | H7: 1 | I7: 1947
A8: 43 | D8: 200 | E8: Товарна баржа | F8: насипни товари | G8: България | H8: 2 | I8: 1948
A9: 44 | D9: 1060 | E9: Дунавска баржа | F9: насипни товари | G9: България | H9: 1 | I9: 1948
A10: 48 | D10: 1060 | E10: Дунавска баржа | F10: насипни товари | G10: България | H10: 3 | I10: 1949
A11: 51 | D11: 3000 | E11: Желязо-бетонен танкер „Емба" | F11: насипни товари | G11: Русия | H11: 1 | I11: 1950
A12: 52 | D12: 1060 | E12: Дунавска баржа | F12: насипни товари | G12: България | H12: 5 | I12: 1950
A13: 53 | D13: 500 | E13: Желязо-бетонна баржа | F13: насипни товари | G13: Русия | H13: 8 | I13: 1950
A14: 58 | D14: 682 | E14: "Благой Касабов" | F14: насипни товари | G14: България | H14: 1 | I14: 1951
... A19: 64 | D19: 500 | E19: Желязо-бетоненна баржа | F19: насипни товари | G19: Русия | H19: 12 | I19: 1952
A20: 65 | B20: 415 | D20: 297 | E20: Баржа за масло | F20: насипни товари | G20: Русия | H20: 6 | I20: 1952
A21: 67 | D21: 3000 | E21: Желязо-бетонен танкер "Терек" | F21: насипни товари | G21: Русия | H21: 1 | I21: 1953
A22: 68 | B22: 415 | D22: 297 | E22: Баржа за масло | F22: насипни товари | G22: Русия | H22: 10 | I22: 1953
A23: 69 | B23: 503 | D23: 262 | E23: Баржа за масло | F23: насипни товари | G23: България | H23: 1 | I23: 1953
A24: 70 | B24: 638 | D24: 158 | E24: Бокситна баржа | F24: насипни товари | G24: Русия | H24: 2 | I24: 1953
A25: 74 | B25: 415-C | D25: 339 | E25: Баржа за масло | F25: насипни товари | G25: Русия | H25: 7 | I25: 1954
A26: 75 | B26: 638 | D26: 1158 | E26: Бокситна баржа | F26: насипни товари | G26: Русия | H26: 8 | I26: 1954
A27: 77 | B27: 503 | D27: 262 | E27: Баржа за масло | F27: насипни товари | G27: България | H27: 2 | I27: 1954
A28: 82 | B28: 415-C | D28: 339 | E28: Баржа за масло | F28: насипни товари | G28: Русия | H28: 11 | I28: 1955
A29: 83 | B29: 638 | D29: 1158 | E29: Бокситна баржа | F29: насипни товари | G29: Русия | H29: 11 | I29: 1955
A30: 85 | B30: 503-С | D30: 262 | E30: баржа за маслао | F30: насипни товари | G30: България | H30: 2 | I30: 1955
A31: 91 | B31: 525 | D31: 992.5 | E31: Дунавска баржа за чистене | F31: насипни товари | G31: България | H31: 2 | I31: 1955
A32: 94 | B32: 638 | D32: 1158 | E32: Бокситна баржа | F32: насипни товари | G32: Русия | H32: 17 | I32: 1956
A33: 95 | B33: 415-C | D33: 339 | E33: баржа за маслао | F33: насипни товари | G33: Русия | H33: 11 | I33: 1956
A34: 97 | B34: 527 | C34: 375 | D34: 225 | E34: "Шабла" | F34: насипни товари | G34: България | H34: 1 | I34: 1957
A35: 98 | B35: 527 | C35: 376 | D35: 225 | E35: "Бяла" | F35: насипни товари | G35: България | H35: 1 | I35: 1957
A36: 100 | B36: 638 | D36: 1158 | E36: Бокситна баржа | F36: насипни товари | G36: Русия | H36: 13 | I36: 1957
A37: 101 | B37: 415-C | D37: 339 | E37: баржа за маслао | F37: насипни товари | G37: Русия | H37: 5 | I37: 1957
A38: 104 | B38: 527 | C38: 391 | D38: 225 | E38: "Обзор" | F38: насипни товари | G38: България | H38: 1 | I38: 1958
A39: 105 | B39: 527 | C39: 471 | D39: 225 | E39: "Созопол" | F39: насипни товари | G39: България | H39: 1 | I39: 1958
A40: 106 | B40: 527 | C40: 472 | D40: 225 | E40: “Галата" | F40: насипни товари | G40: България | H40: 1 | I40: 1958
A41: 107 | B41: 529 | C41: 379 | D41: 3150 | E41: "Варна" | F41: насипни товари | G41: България | H41: 1 | I41: 1958
A42: 108 | B42: 529 | C42: 392 | D42: 3150 | E42: "Бургас" | F42: насипни товари | G42: България | H42: 1 | I42: 1958
A43: 109 | B43: 831 | D43: 1152 | E43: Речна баржа | F43: насипни товари | G43: Русия | H43: 12 | I43: 1958
A44: 110 | B44: 461-A | D44: 2760 | E44: Езерна баржа | F44: насипни товари | G44: Русия | H44: 4 | I44: 1958
A45: 115 | B45: 529 | C45: 399 | D45: 3150 | E45: "Скендербег" | F45: насипни товари | G45: Албания | H45: 1 | I45: 1959
A46: 116 | B46: 529 | C46: 401 | D46: 3150 | E46: "Мир" | F46: насипни товари | G46: Китай | H46: 1 | I46: 1959
A47: 118 | B47: 461 | D47: 2760 | E47: Езерна баржа | F47: насипни товари | G47: Русия | H47: 9 | I47: 1959
A48: 121 | B48: 831 | D48: 1152 | E48: Речна баржа | F48: насипни товари | G48: Русия | H48: 13 | I48: 1959
A49: 125 | B49: 529 | C49: 462 | D49: 3150 | E49: "Пионер" | F49: насипни товари | G49: Чехия | H49: 1 | I49: 1960
A50: 129 | B50: 461 | D50: 2760 | E50: Езерна баржа | F50: насипни товари | G50: Русия | H50: 7 | I50: 1960
A51: 130 | B51: 831 | D51: 1152 | E51: Речна баржа | F51: насипни товари | G51: Русия | H51: 11 | I51: 1960
A52: 144 | B52: 548 | C52: 525 | D52: 6420 | E52: "София" | F52: насипни товари | G52: България | H52: 1 | I52: 1963
A53: 145 | B53: 529-Б | C53: 526 | D53: 3150 | E53: "Искра" | F53: насипни товари | G53: Чехия | H53: 1 | I53: 1963
A54: 146 | B54: 529-Б | C54: 572 | D54: 3150 | E54: "Сливен" | F54: насипни товари | G54: България | H54: 1 | I54: 1963
A55: 155 | B55: 548 | C55: 581 | D55: 6420 | E55: "Търново" | F55: насипни товари | G55: България | H55: 1 | I55: 1964
A56: 164 | B56: 529-Б | C56: 573 | D56: 3150 | E56: "Габрово" | F56: насипни товари | G56: България | H56: 1 | I56: 1965
A57: 170 | B57: 548 | C57: 582 | D57: 6420 | E57: "Преслав" | F57: насипни товари | G57: България | H57: 1 | I57: 1966
A58: 171 | B58: В-451 | C58: 621 | D58: 3200 | E58: "Колобжек" | F58: насипни товари | G58: Полша | H58: 1 | I58: 1966
A59: 172 | B59: В-451 | C59: 622 | D59: 3200 | E59: "Освииенцим" | F59: насипни товари | G59: Полша | H59: 1 | I59: 1966
A60: 173 | B60: В-451 | C60: 623 | D60: 3200 | E60: "Рибник" | F60: насипни товари | G60: Полша | H60: 1 | I60: 1966
A61: 181 | B61: 548 | C61: 204 | D61: 6420 | E61: "Будапеща" | F61: насипни товари | G61: Унгария | H61: 1 | I61: 1967
A62: 182 | B62: В-451 | C62: 254 | D62: 3200 | E62: "Зелена гура" | F62: насипни товари | G62: Полша | H62: 1 | I62: 1967
A63: 183 | B63: В-451 | C63: 255 | D63: 3200 | E63: "Плоцк" | F63: насипни товари | G63: Полша | H63: 1 | I63: 1967
... A69: 212 | B69: Б-451-A | C69: 260 | D69: 3200 | E69: "П. Трибуналски" | F69: насипни товари | G69: Полша | H69: 1 | I69: 1969
A70: 221 | B70: 548 | C70: 206 | D70: 5000 | F70: насипни товари | G70: Норвегия | H70: 1 | I70: 1969
A71: 222 | B71: 579 | C71: 161 | D71: 10000 | E71: "Верила" | F71: насипни товари | G71: България | H71: 1 | I71: 1969
A72: 223 | B72: Б-451-A | C72: 261 | D72: 3200 | E72: "Вадовице" | F72: насипни товари | G72: Полша | H72: 1 | I72: 1969
A73: 224 | B73: Б-451-A | C73: 262 | D73: 3200 | E73: "Сувалниi" | F73: насипни товари | G73: Полша | H73: 1 | I73: 1969
A74: 234 | B74: 548 | C74: 207 | D74: 5000 | F74: насипни товари | G74: Норвегия | H74: 1 | I74: 1970
A75: 235 | B75: 548 | C75: 208 | D75: 5000 | E75: "Болгар" | F75: насипни товари | G75: Норвегия | H75: 1 | I75: 1970
A76: 236 | B76: 548 | C76: 209 | D76: 5000 | E76: "Сливен" | F76: насипни товари | G76: Норвегия | H76: 1 | I76: 1970
A77: 237 | B77: Б-451-Б | C77: 263 | D77: 3200 | E77: "Кутно II" | F77: насипни товари | G77: Полша | H77: 1 | I77: 1970
A78: 238 | B78: Б-451-Б | C78: 264 | D78: 3200 | E78: "Пшетнисл" | F78: насипни товари | G78: Полша | H78: 1 | I78: 1970
A79: 239 | B79: Б-451-Б | C79: 265 | D79: 3200 | E79: "Стринкович" | F79: насипни товари | G79: Полша | H79: 1 | I79: 1970
A80: 240 | B80: Б-451-Б | C80: 266 | D80: 3200 | E80: "Чеханов" | F80: насипни товари | G80: Полша | H80: 1 | I80: 1970
A81: 254 | B81: 548 | C81: 210 | D81: 5000 | E81: "Виверн" | F81: насипни товари | G81: Норвегия | H81: 1 | I81: 1971
A82: 255 | B82: 579 | C82: 163 | D82: 10000 | E82: "Хунг 110" | F82: насипни товари | G82: Китай | H82: 1 | I82: 1971
A83: 256 | B83: 579 | C83: 164 | D83: 10000 | E83: "Еура" | F83: насипни товари | G83: Финландия | H83: 1 | I83: 1971
A84: 263 | B84: 548 | C84: 211 | D84: 5000 | E84: "Тау-Ан" | F84: насипни товари | G84: Китай | H84: 1 | I84: 1972
A85: 264 | B85: 579 | C85: 165 | D85: 10000 | E85: "Виден" | F85: насипни товари | G85: България | H85: 1 | I85: 1972
A86: 269 | B86: 591 | C86: 51 | D86: 38000 | E86: "Тропвинд" | F86: насипни товари | G86: Швейцария | H86: 1 | I86: 1972
... A158: 396 | B158: 584,1 | C158: 164 | D158: 25000 | E158: "Скулптор Матвеев" | F158: насипни товари | G158: Русия | H158: 1 | I158: 1987
A159: 399 | B159: 591,3 | C159: 81 | D159: 38000 | E159: "Ген. Заватски" | F159: насипни товари | G159: Полша | H159: 1 | I159: 1988
A160: 403 | B160: 591,2 | C160: 82 | D160: 38000 | E160: "Гарт" | F160: насипни товари | G160: Англия | H160: 1 | I160: 1988
A161: 409 | B161: 591,2 | C161: 85 | D161: 38000 | E161: "Реформ" | F161: насипни товари | G161: Ннорвегия | H161: 1 | I161: 1990
A162: 413 | B162: 640 | C162: 451 | D162: 19000 | E162: "Плана" | F162: насипни товари | G162: България | H162: 1 | I162: 1991
A163: 419 | B163: 640 | C163: 452 | D163: 18000 | E163: "Миджур" | F163: насипни товари | G163: България | H163: 1 | I163: 1992
A164: 420 | B164: 640 | C164: 453 | D164: 18000 | E164: "Вола" | F164: насипни товари | G164: България | H164: 1 | I164: 1992
A165: 425 | B165: 651 | C165: 501 | D165: 40000 | E165: "Кап. Николас" | F165: насипни товари | G165: Гърция | H165: 1 | I165: 1994
A166: 430 | B166: 640 | C166: 454 | D166: 20500 | E166: "Сакар" | F166: насипни товари | G166: България | H166: 1 | I166: 1995
A167: 431 | B167: 651 | C167: 502 | D167: 40000 | E167: "Турия" | F167: насипни товари | G167: Англия | H167: 1 | I167: 1995
A168: 432 | B168: 651 | C168: 503 | D168: 40000 | E168: "Многоцелеви - 3" | F168: насипни товари | G168: Малайзия | H168: 1 | I168: 1995
A169: 434 | B169: 653 | C169: 504 | D169: 40000 | E169: "Многоцелеви - 4" | F169: насипни товари | G169: Малайзия | H169: 1 | I169: 1995
A170: 437 | B170: 651 | C170: 505 | D170: 40000 | E170: "Санта Рита" | F170: насипни товари | G170: Германия | H170: 1 | I170: 1996
A171: 440 | B171: 651 | C171: 506 | D171: 40000 | E171: "Санта Роса" | F171: насипни товари | G171: Германия | H171: 1 | I171: 1997
A172: 441 | B172: 724 | C172: 711 | D172: 13900 | E172: "Ком" | F172: насипни товари | G172: България | H172: 1 | I172: 1997
A173: 442 | B173: 651 | C173: 507 | D173: 40 | E173: "Диана" | F173: насипни товари | G173: Полша | H173: 1 | I173: 1997
A174: 443 | B174: 724 | C174: 712 | D174: 13900 | E174: "Богдан" | F174: насипни товари | G174: България | H174: 1 | I174: =SUM(I14:I16) -> 5853
A175: 444 | B175: 724 | C175: 713 | D175: 13200 | E175: "Перелик" | F175: насипни товари | G175: България | H175: 1
A176: 444 | B176: 651 | C176: 508 | D176: 40000 | E176: "Delia" | F176: насипни товари | G176: Полша | H176: 1 | I176: 1998
A177: 446 | B177: 651 | C177: 509 | D177: 40000 | E177: "Dorine" | F177: насипни товари | G177: Полша | H177: 1 | I177: 1998
A178: 447 | B178: 640 | C178: 455 | D178: 20500 | E178: "Царевец" | F178: насипни товари | G178: България | H178: 1
A179: 448 | B179: 724 | C179: 714 | D179: 13900 | E179: "Персенк" | F179: насипни товари | G179: България | H179: 1
A180: 449 | B180: 651 | C180: 510 | D180: 40000 | E180: “Българка" | F180: насипни товари | G180: България | H180: 1 | I180: 2003
...
